BEGIN:VCALENDAR
VERSION:2.0
PRODID:-// eRoom plugin //NONSGML v1.0//EN
CALSCALE:GREGORIAN
BEGIN:VEVENT
UID:eRoom-1776660702
SUMMARY:live online class
LOCATION:Zoom
DESCRIPTION:Chakra Balancing\n\n---\n\nlive online class is inviting you to
  a scheduled Zoom meeting.\n\nJoin Zoom Meeting\nhttps://us05web.zoom.us/j
 /88921963318?pwd=bti3EkXPrh9QCoRTsmbVnWPXM3WMCo.1\n\nMeeting ID: 889219633
 18\nPasscode: Usman@123.\n
URL;VALUE=URI:https://us05web.zoom.us/j/88921963318?pwd=bti3EkXPrh9QCoRTsmbVnWPXM3WMCo.1
DTSTART:20250302T180000Z
DTEND:20250302T181000Z
DTSTAMP:20260420T045142Z
BEGIN:VALARM
ACTION:DISPLAY
DESCRIPTION:Reminder
TRIGGER;RELATED=START:-PT15M
END:VALARM
END:VEVENT
END:VCALENDAR